BEGIN:VCALENDAR
VERSION:2.0
PRODID:-//BWV de Eem - ECPv6.15.20//NONSGML v1.0//EN
CALSCALE:GREGORIAN
METHOD:PUBLISH
X-ORIGINAL-URL:https://www.bwvdeeem.nl
X-WR-CALDESC:Evenementen voor BWV de Eem
REFRESH-INTERVAL;VALUE=DURATION:PT1H
X-Robots-Tag:noindex
X-PUBLISHED-TTL:PT1H
BEGIN:VTIMEZONE
TZID:Europe/Paris
BEGIN:DAYLIGHT
TZOFFSETFROM:+0100
TZOFFSETTO:+0200
TZNAME:CEST
DTSTART:20250330T010000
END:DAYLIGHT
BEGIN:STANDARD
TZOFFSETFROM:+0200
TZOFFSETTO:+0100
TZNAME:CET
DTSTART:20251026T010000
END:STANDARD
BEGIN:DAYLIGHT
TZOFFSETFROM:+0100
TZOFFSETTO:+0200
TZNAME:CEST
DTSTART:20260329T010000
END:DAYLIGHT
BEGIN:STANDARD
TZOFFSETFROM:+0200
TZOFFSETTO:+0100
TZNAME:CET
DTSTART:20261025T010000
END:STANDARD
BEGIN:DAYLIGHT
TZOFFSETFROM:+0100
TZOFFSETTO:+0200
TZNAME:CEST
DTSTART:20270328T010000
END:DAYLIGHT
BEGIN:STANDARD
TZOFFSETFROM:+0200
TZOFFSETTO:+0100
TZNAME:CET
DTSTART:20271031T010000
END:STANDARD
END:VTIMEZONE
BEGIN:VEVENT
DTSTART;TZID=Europe/Paris:20261108T120000
DTEND;TZID=Europe/Paris:20261108T140000
DTSTAMP:20260421T120148
CREATED:20251213T213516Z
LAST-MODIFIED:20251213T213823Z
UID:33167-1794139200-1794146400@www.bwvdeeem.nl
SUMMARY:Roei-examens (reservedatum)
DESCRIPTION:Het theorie-examen mag je zelf aanvragen. \nEen roei- of stuurexamen vraagt je instructeur aan. \n» Aanmelden kan via het webformulier Examenaanvraag op de site.
URL:https://www.bwvdeeem.nl/agenda/roei-examens-reservedatum/
LOCATION:BWV de Eem\, August Janssenweg 42\, Baarn\, 3742 RX\, Nederland
CATEGORIES:Roeien,Vereniging
END:VEVENT
BEGIN:VEVENT
DTSTART;TZID=Europe/Paris:20261110T200000
DTEND;TZID=Europe/Paris:20261110T220000
DTSTAMP:20260421T120148
CREATED:20251107T195443Z
LAST-MODIFIED:20251107T195458Z
UID:33020-1794340800-1794348000@www.bwvdeeem.nl
SUMMARY:Vergadering Roei-examencommissie
DESCRIPTION:
URL:https://www.bwvdeeem.nl/agenda/vergadering-roei-examencommissie-2/
LOCATION:BWV de Eem Recover\, August Janssenweg 42\, Baarn\, 3742 RX\, Nederland
CATEGORIES:Instructie,Organisatie,Roeien
END:VEVENT
BEGIN:VEVENT
DTSTART;TZID=Europe/Paris:20261202T200000
DTEND;TZID=Europe/Paris:20261202T220000
DTSTAMP:20260421T120148
CREATED:20260203T211259Z
LAST-MODIFIED:20260203T211259Z
UID:33342-1796241600-1796248800@www.bwvdeeem.nl
SUMMARY:Bestuursvergadering
DESCRIPTION:
URL:https://www.bwvdeeem.nl/agenda/bestuursvergadering-12/
LOCATION:BWV de Eem Recover\, August Janssenweg 42\, Baarn\, 3742 RX\, Nederland
CATEGORIES:Organisatie,Vereniging
END:VEVENT
END:VCALENDAR